BEGIN:VCALENDAR
VERSION:2.0
PRODID:-//NAWIC NWA - ECPv6.15.20//NONSGML v1.0//EN
CALSCALE:GREGORIAN
METHOD:PUBLISH
X-ORIGINAL-URL:https://nawicnwa.org
X-WR-CALDESC:Events for NAWIC NWA
REFRESH-INTERVAL;VALUE=DURATION:PT1H
X-Robots-Tag:noindex
X-PUBLISHED-TTL:PT1H
BEGIN:VTIMEZONE
TZID:America/Chicago
BEGIN:DAYLIGHT
TZOFFSETFROM:-0600
TZOFFSETTO:-0500
TZNAME:CDT
DTSTART:20200308T080000
END:DAYLIGHT
BEGIN:STANDARD
TZOFFSETFROM:-0500
TZOFFSETTO:-0600
TZNAME:CST
DTSTART:20201101T070000
END:STANDARD
BEGIN:DAYLIGHT
TZOFFSETFROM:-0600
TZOFFSETTO:-0500
TZNAME:CDT
DTSTART:20210314T080000
END:DAYLIGHT
BEGIN:STANDARD
TZOFFSETFROM:-0500
TZOFFSETTO:-0600
TZNAME:CST
DTSTART:20211107T070000
END:STANDARD
BEGIN:DAYLIGHT
TZOFFSETFROM:-0600
TZOFFSETTO:-0500
TZNAME:CDT
DTSTART:20220313T080000
END:DAYLIGHT
BEGIN:STANDARD
TZOFFSETFROM:-0500
TZOFFSETTO:-0600
TZNAME:CST
DTSTART:20221106T070000
END:STANDARD
END:VTIMEZONE
BEGIN:VEVENT
DTSTART;TZID=America/Chicago:20210609T163000
DTEND;TZID=America/Chicago:20210609T183000
DTSTAMP:20260421T201116
CREATED:20210529T140928Z
LAST-MODIFIED:20210608T164601Z
UID:2696-1623256200-1623263400@nawicnwa.org
SUMMARY:NWA NAWIC Panel on the Patio - June 9th
DESCRIPTION:Panel on the Patio will feature 3 amazing ladies who will discuss their  journey through the construction industry followed by a Happy Hour!\n\n\nPanel on the Patio \n         Panelists include:  \n         >>>>>> Karomy Kimbel\, Kimbel Mechanical  \n         >>>>>> Jessica Hester\, Verdant Studio  \n         >>>>>> Maggie Langston\, Tatum Smith \nHere’s a sneak peak at some of the questions/topics that will be covered: \n1. What do you do? How’d you get into the industry? How’d you get to where you’re at? Tell us your story. \n2. What was your biggest hurdle or challenge in your field thinking about getting into this industry? Do you still deal with it today? \n3. What doors have you seen open in the last 5-10 years as it pertains to women in our industry? \n4. What’s a past situation you found yourself in that shaped your career? \n5. What techniques do you employ each day to be successful? \n6. What advice would you give to someone wanting to enter our industry? \n7. How’s retirement look for you today?
URL:https://nawicnwa.org/event/nwa-nawic-panel-on-the-patio-june-9th/
LOCATION:Modoko Asian Kitchen (Formerly Komodo)\, 5204 West Village Parkway\, Rogers\, AR\, 72758\, United States
ATTACH;FMTTYPE=image/png:https://nawicnwa.org/wp-content/uploads/2021/05/3ca5a100ed5c15ece0d55169cb3e8413-MjXVsl.tmp_.png
END:VEVENT
END:VCALENDAR