BEGIN:VCALENDAR
VERSION:2.0
PRODID:-//NAWIC NWA - ECPv6.15.20//NONSGML v1.0//EN
CALSCALE:GREGORIAN
METHOD:PUBLISH
X-WR-CALNAME:NAWIC NWA
X-ORIGINAL-URL:https://nawicnwa.org
X-WR-CALDESC:Events for NAWIC NWA
REFRESH-INTERVAL;VALUE=DURATION:PT1H
X-Robots-Tag:noindex
X-PUBLISHED-TTL:PT1H
BEGIN:VTIMEZONE
TZID:America/Chicago
BEGIN:DAYLIGHT
TZOFFSETFROM:-0600
TZOFFSETTO:-0500
TZNAME:CDT
DTSTART:20180311T080000
END:DAYLIGHT
BEGIN:STANDARD
TZOFFSETFROM:-0500
TZOFFSETTO:-0600
TZNAME:CST
DTSTART:20181104T070000
END:STANDARD
BEGIN:DAYLIGHT
TZOFFSETFROM:-0600
TZOFFSETTO:-0500
TZNAME:CDT
DTSTART:20190310T080000
END:DAYLIGHT
BEGIN:STANDARD
TZOFFSETFROM:-0500
TZOFFSETTO:-0600
TZNAME:CST
DTSTART:20191103T070000
END:STANDARD
BEGIN:DAYLIGHT
TZOFFSETFROM:-0600
TZOFFSETTO:-0500
TZNAME:CDT
DTSTART:20200308T080000
END:DAYLIGHT
BEGIN:STANDARD
TZOFFSETFROM:-0500
TZOFFSETTO:-0600
TZNAME:CST
DTSTART:20201101T070000
END:STANDARD
END:VTIMEZONE
BEGIN:VEVENT
DTSTART;TZID=America/Chicago:20191022T160000
DTEND;TZID=America/Chicago:20191022T180000
DTSTAMP:20260423T060512
CREATED:20191014T204800Z
LAST-MODIFIED:20191021T212035Z
UID:1384-1571760000-1571767200@nawicnwa.org
SUMMARY:NAWIC NWA Oct. Chapter Meeting (Jobsite Tour & Happy Hour)
DESCRIPTION:We decided to change up the usual monthly Luncheon Chapter Meeting for a jobsite tour and Happy Hour!  \n \nOelke Construction is graciously letting our chapter tour one of their Bentonville projects – the new Bentonville Brewing Co. location at the corner of I Street and 14th.  Then our chapter will head over to The Holler on 8th St. for a little Happy Hour!  (The cost of the attendence will pay for snacks and drinks at the happy hour.)\n \n* * * * * * * * * * * * * * * * * * * * * * * * * * * * * *\nBENTONVILLE BREWING CO: The new 2-story craft brewery will include a covered patio\, dog run\, kids play area\, and food truck area with lots of inside and outside places to sit\, eat\, enjoy NWA!  Eventually\, it will be connected to the Bentonville lake and trails area. Bentonville Brewery is currently located in Rogers and the owners are super excited to move back to Bentonville!! \n* * * * * * * * * * * * * * * * * * * * * * * * * * * * * *\n \nIf someone forwarded this email invitation and you’d like to receive these meeting invitation emails directly and to join the emailing list\, please email Hallie.Bussman@caddell.com.  This step is not necessary if you received the invitation from NWA NAWIC Chapter .
URL:https://nawicnwa.org/event/nawic-nwa-oct-chapter-meeting-jobsite-tour-happy-hour/
LOCATION:Bentonville Brewing Co.\, I Street & 14th Street\, (Next to Climb Bentonville)\, Bentonville\, AR\, 72712\, United States
END:VEVENT
BEGIN:VEVENT
DTSTART;TZID=America/Chicago:20191022T160000
DTEND;TZID=America/Chicago:20191022T180000
DTSTAMP:20260423T060512
CREATED:20191014T204800Z
LAST-MODIFIED:20191014T204800Z
UID:1385-1571760000-1571767200@nawicnwa.org
SUMMARY:NAWIC NWA Oct. Chapter Meeting (Jobsite Tour & Happy Hour)
DESCRIPTION:We decided to change up the usual monthly Luncheon Chapter Meeting for a jobsite tour and Happy Hour!  \n \nOelke Construction is graciously letting our chapter tour one of their Bentonville projects – the new Bentonville Brewing Co. location at the corner of I Street and 14th.  Then our chapter will head over to The Holler on 8th St. for a little Happy Hour!  (The cost of the attendence will pay for snacks and drinks at the jobsite tour.)\n \n* * * * * * * * * * * * * * * * * * * * * * * * * * * * * *\nBENTONVILLE BREWING CO: The new 2-story craft brewery will include a covered patio\, dog run\, kids play area\, and food truck area with lots of inside and outside places to sit\, eat\, enjoy NWA!  Eventually\, it will be connected to the Bentonville lake and trails area. Bentonville Brewery is currently located in Rogers and the owners are super excited to move back to Bentonville!! \n* * * * * * * * * * * * * * * * * * * * * * * * * * * * * *\n \nIf someone forwarded this email invitation and you’d like to receive these meeting invitation emails directly and to join the emailing list\, please email Hallie.Bussman@caddell.com.  This step is not necessary if you received the invitation from NWA NAWIC Chapter .
URL:https://nawicnwa.org/event/nawic-nwa-oct-chapter-meeting-jobsite-tour-happy-hour-2/
LOCATION:Bentonville Brewing Co.\, I Street & 14th Street\, (Next to Climb Bentonville)\, Bentonville\, AR\, 72712\, United States
END:VEVENT
END:VCALENDAR