BEGIN:VCALENDAR
VERSION:2.0
PRODID:-//NAWIC NWA - ECPv6.15.20//NONSGML v1.0//EN
CALSCALE:GREGORIAN
METHOD:PUBLISH
X-ORIGINAL-URL:https://nawicnwa.org
X-WR-CALDESC:Events for NAWIC NWA
REFRESH-INTERVAL;VALUE=DURATION:PT1H
X-Robots-Tag:noindex
X-PUBLISHED-TTL:PT1H
BEGIN:VTIMEZONE
TZID:America/Chicago
BEGIN:DAYLIGHT
TZOFFSETFROM:-0600
TZOFFSETTO:-0500
TZNAME:CDT
DTSTART:20180311T080000
END:DAYLIGHT
BEGIN:STANDARD
TZOFFSETFROM:-0500
TZOFFSETTO:-0600
TZNAME:CST
DTSTART:20181104T070000
END:STANDARD
BEGIN:DAYLIGHT
TZOFFSETFROM:-0600
TZOFFSETTO:-0500
TZNAME:CDT
DTSTART:20190310T080000
END:DAYLIGHT
BEGIN:STANDARD
TZOFFSETFROM:-0500
TZOFFSETTO:-0600
TZNAME:CST
DTSTART:20191103T070000
END:STANDARD
BEGIN:DAYLIGHT
TZOFFSETFROM:-0600
TZOFFSETTO:-0500
TZNAME:CDT
DTSTART:20200308T080000
END:DAYLIGHT
BEGIN:STANDARD
TZOFFSETFROM:-0500
TZOFFSETTO:-0600
TZNAME:CST
DTSTART:20201101T070000
END:STANDARD
END:VTIMEZONE
BEGIN:VEVENT
DTSTART;TZID=America/Chicago:20190508T120000
DTEND;TZID=America/Chicago:20190508T130000
DTSTAMP:20260423T143352
CREATED:20190331T225416Z
LAST-MODIFIED:20190510T193130Z
UID:839-1557316800-1557320400@nawicnwa.org
SUMMARY:NAWIC NWA May Luncheon Chapter Meeting
DESCRIPTION:Join us Wednesday\, May 8th at Kimbel Mechanical in Fayetteville for our next monthly luncheon meeting.  You won’t want to miss out!\n************************************************************************\nTo join the emailing list to receive an email invitation to this event when the meeting details are finalized\, please email Hallie.Bussman@caddell.com to be included.
URL:https://nawicnwa.org/event/nawic-nwa-may-luncheon-chapter-meeting/
LOCATION:High Jackson\, 5201 W. Village Parkway\, Rogers\, AR\, 72758\, United States
END:VEVENT
END:VCALENDAR