BEGIN:VCALENDAR
VERSION:2.0
PRODID:-//NAWIC NWA - ECPv6.15.20//NONSGML v1.0//EN
CALSCALE:GREGORIAN
METHOD:PUBLISH
X-ORIGINAL-URL:https://nawicnwa.org
X-WR-CALDESC:Events for NAWIC NWA
REFRESH-INTERVAL;VALUE=DURATION:PT1H
X-Robots-Tag:noindex
X-PUBLISHED-TTL:PT1H
BEGIN:VTIMEZONE
TZID:America/Chicago
BEGIN:DAYLIGHT
TZOFFSETFROM:-0600
TZOFFSETTO:-0500
TZNAME:CDT
DTSTART:20200308T080000
END:DAYLIGHT
BEGIN:STANDARD
TZOFFSETFROM:-0500
TZOFFSETTO:-0600
TZNAME:CST
DTSTART:20201101T070000
END:STANDARD
BEGIN:DAYLIGHT
TZOFFSETFROM:-0600
TZOFFSETTO:-0500
TZNAME:CDT
DTSTART:20210314T080000
END:DAYLIGHT
BEGIN:STANDARD
TZOFFSETFROM:-0500
TZOFFSETTO:-0600
TZNAME:CST
DTSTART:20211107T070000
END:STANDARD
BEGIN:DAYLIGHT
TZOFFSETFROM:-0600
TZOFFSETTO:-0500
TZNAME:CDT
DTSTART:20220313T080000
END:DAYLIGHT
BEGIN:STANDARD
TZOFFSETFROM:-0500
TZOFFSETTO:-0600
TZNAME:CST
DTSTART:20221106T070000
END:STANDARD
END:VTIMEZONE
BEGIN:VEVENT
DTSTART;TZID=America/Chicago:20210414T113000
DTEND;TZID=America/Chicago:20210414T133000
DTSTAMP:20260422T010722
CREATED:20210319T005747Z
LAST-MODIFIED:20210414T142444Z
UID:2619-1618399800-1618407000@nawicnwa.org
SUMMARY:NWA NAWIC April Meeting - Negotiating Skills for Women - Wed. 4/14
DESCRIPTION:Negotiating Skills for Women: : Redefining Negotiation to Self-Advocacy\, a 90-minute engaged workshop\n\n\nNegotiating Skills for Women\nRedefining Negotiation to Self-Advocacy\, a 90-minute engaged workshop\nAs women\, oftentimes we are so concerned about what people will think about us that it prevents us from asking for what we deserve.  Whether it is negotiating a salary or raise\, buying a car or home\, negotiating an airline ticket refund or negotiating over hospital bills\, the skills learned in this session will be skills the participants can apply to all aspects of life.  This session is geared specifically toward women\, and will focus on inherent barriers we bump into when faced with a negotiation opportunity. We will hear success stories and lessons learned from our presenters.  Be prepared to for breakout sessions where you will role play to help you hone in on your negotiation skills.   \n:: Lisa Lackovic :: \nLisa Lackovic is the Omaha architectural representative for Endicott Clay Products based out of Fairbury\, Nebraska.  She adopted the work-from-home lifestyle 10 years ago after leaving the corporate battle ground. \nShe earned a BS degree from the University of Nebraska-Lincoln in Broadcast Journalism and Speech Communication many years ago but continues to use these skills during public speaking opportunities.  Lisa enjoys speaking on “Generations in the Workplace”\, “Why She Buys”\, and “Leadership Styles of Men and Women” to name a few. \nLisa grew up in the masonry industry and has over 35 years’ experience promoting clay brick to architects\, interior designers and contractors in Omaha.  She developed landscape contractor contest\, “The Ultimate Backyard Challenge” and founded and trademarked Divas of the Dirt™\, a networking organization for women in hardscape.  She often refers to herself as “The Brick Chick” and serves as a resource to the construction community for all things brick. \nLisa currently serves as board chairman of College Possible Omaha.  She past-president of CREW Omaha Metro and Habitat for Humanity Omaha.  Lackovic serves board of the Nebraska Masonry Alliance and the American Institute of Architects Omaha.  She is married to Bob and has 2 grown children and 5 grandchildren.  Some of Lisa’s favorite pastimes are traveling\, golf\, spinning\, yoga\, gardening and mentoring young professional women in male dominated industries. \n \n:: Quinn Texmo ::\nQuinn Texmo is fiercely passionate about advancing women in the working world.  She currently does business development for Turner Construction Company\, and is responsible for identifying and securing profitable business for the Omaha office.  Prior to joining Turner\, Quinn was with an engineering and architecture firm and before that she worked for Kiewit for 8 years.  She has a Master’s degree in Organizational Communication and a Bachelor’s degree in journalism\, advertising and public relations from UNO.  \nQuinn currently serves on the board of directors for the ACE Mentor program in Omaha\, RISE Omaha\, Friends of the Lied Center\, La Vista Community Foundation\, and is on the board of advisors for Stone+ Consulting; a proposal consulting firm based in Denver\, Colorado.  She is a past president for both CREW Omaha and SMPS Nebraska\, past leadership team member for Women’s Fund Circles\, a graduate of Leadership Nebraska\, and a past MBJ 40 under 40 winner.  In 2019\, Quinn was awarded the CREW Impact Award for Advancing Women’s Careers in the Commercial Real Estate industry\, and most recently at Quinn was honored with the “I’m for her” award from CREW Omaha.  \nAt home\, Quinn runs her own personal petting zoo\, with three crazy and hairy furballs.  Finn\, a 3-year-old mini Australian shepherd\, and Iris and Ivy – her two sweet and salty kittens.
URL:https://nawicnwa.org/event/nwa-nawic-april-meeting-negotiating-skills-for-women-wed-4-14/
LOCATION:AR
ATTACH;FMTTYPE=image/jpeg:https://nawicnwa.org/wp-content/uploads/2021/03/423cdf9b23e6dfa8d701337170aff21c-m9LkhM.tmp_.jpg
END:VEVENT
END:VCALENDAR