BEGIN:VCALENDAR
VERSION:2.0
PRODID:-//NAWIC NWA - ECPv6.15.20//NONSGML v1.0//EN
CALSCALE:GREGORIAN
METHOD:PUBLISH
X-ORIGINAL-URL:https://nawicnwa.org
X-WR-CALDESC:Events for NAWIC NWA
REFRESH-INTERVAL;VALUE=DURATION:PT1H
X-Robots-Tag:noindex
X-PUBLISHED-TTL:PT1H
BEGIN:VTIMEZONE
TZID:America/Chicago
BEGIN:DAYLIGHT
TZOFFSETFROM:-0600
TZOFFSETTO:-0500
TZNAME:CDT
DTSTART:20200308T080000
END:DAYLIGHT
BEGIN:STANDARD
TZOFFSETFROM:-0500
TZOFFSETTO:-0600
TZNAME:CST
DTSTART:20201101T070000
END:STANDARD
BEGIN:DAYLIGHT
TZOFFSETFROM:-0600
TZOFFSETTO:-0500
TZNAME:CDT
DTSTART:20210314T080000
END:DAYLIGHT
BEGIN:STANDARD
TZOFFSETFROM:-0500
TZOFFSETTO:-0600
TZNAME:CST
DTSTART:20211107T070000
END:STANDARD
BEGIN:DAYLIGHT
TZOFFSETFROM:-0600
TZOFFSETTO:-0500
TZNAME:CDT
DTSTART:20220313T080000
END:DAYLIGHT
BEGIN:STANDARD
TZOFFSETFROM:-0500
TZOFFSETTO:-0600
TZNAME:CST
DTSTART:20221106T070000
END:STANDARD
END:VTIMEZONE
BEGIN:VEVENT
DTSTART;TZID=America/Chicago:20210311T160000
DTEND;TZID=America/Chicago:20210311T170000
DTSTAMP:20260422T030939
CREATED:20210227T084552Z
LAST-MODIFIED:20210311T181031Z
UID:2597-1615478400-1615482000@nawicnwa.org
SUMMARY:WIC Week 2021  : :  JOBSITE TOUR  Blair Library : :  March 11th
DESCRIPTION:Come join us for a personal tour of the new Blair Library Expansion recently completed by Crossland Construction!\n\n\n: :  Due to Covid restrictions\, the tour may break out into small groups to accommodate social distancing standards – MASKS ARE REQUIRED  : :  \n \n:   :   :   :   :   :   :   :   :   :   :   :   :   :   :   :   :   :   :   :   :   :   :   :   :   :   :   :  \nFAYETTEVILLE PUBLIC LIBRARY EXPANSION \nThe Blair Library\, Fayetteville’s public library\, has nearly doubled in size due to the recent expansion.  The new spaces include an expanded children’s library\, a 700-seat performance hall\, a test kitchen\, an innovation center with a recording studio\, photo studio\, video studio\, and a movement studio!
URL:https://nawicnwa.org/event/wic-week-2021-jobsite-tour-blair-library-march-11th/
LOCATION:Blair Library\, 351 West Mountain Street\, Fayetteville\, AR\, 72701\, United States
ATTACH;FMTTYPE=image/png:https://nawicnwa.org/wp-content/uploads/2021/02/d7976adf8cf5949591142562daaa5cdc-wfNbSu.tmp_.png
END:VEVENT
END:VCALENDAR