BEGIN:VCALENDAR
VERSION:2.0
PRODID:-//NAWIC NWA - ECPv6.15.20//NONSGML v1.0//EN
CALSCALE:GREGORIAN
METHOD:PUBLISH
X-WR-CALNAME:NAWIC NWA
X-ORIGINAL-URL:https://nawicnwa.org
X-WR-CALDESC:Events for NAWIC NWA
REFRESH-INTERVAL;VALUE=DURATION:PT1H
X-Robots-Tag:noindex
X-PUBLISHED-TTL:PT1H
BEGIN:VTIMEZONE
TZID:America/Chicago
BEGIN:DAYLIGHT
TZOFFSETFROM:-0600
TZOFFSETTO:-0500
TZNAME:CDT
DTSTART:20200308T080000
END:DAYLIGHT
BEGIN:STANDARD
TZOFFSETFROM:-0500
TZOFFSETTO:-0600
TZNAME:CST
DTSTART:20201101T070000
END:STANDARD
BEGIN:DAYLIGHT
TZOFFSETFROM:-0600
TZOFFSETTO:-0500
TZNAME:CDT
DTSTART:20210314T080000
END:DAYLIGHT
BEGIN:STANDARD
TZOFFSETFROM:-0500
TZOFFSETTO:-0600
TZNAME:CST
DTSTART:20211107T070000
END:STANDARD
BEGIN:DAYLIGHT
TZOFFSETFROM:-0600
TZOFFSETTO:-0500
TZNAME:CDT
DTSTART:20220313T080000
END:DAYLIGHT
BEGIN:STANDARD
TZOFFSETFROM:-0500
TZOFFSETTO:-0600
TZNAME:CST
DTSTART:20221106T070000
END:STANDARD
END:VTIMEZONE
BEGIN:VEVENT
DTSTART;TZID=America/Chicago:20210307T110000
DTEND;TZID=America/Chicago:20210307T130000
DTSTAMP:20260422T030843
CREATED:20210224T122322Z
LAST-MODIFIED:20210307T101141Z
UID:2573-1615114800-1615122000@nawicnwa.org
SUMMARY:WIC Week 2021  : :  SUNDAY BRUNCH  : :  March 7th
DESCRIPTION:Let’s kick off WIC Week 2021 with a few friends from the NWA NAWIC Chapter!   Please join us Sunday at the Cafe on Broadway!\n\n\n: :  Limited spots available due to Covid restrictions so RSVP now to secure your spot : :  \nThis event is FREE thanks to AWJ Electric!   Thank you AWJ Electric for your generous WIC Week sponsorship.
URL:https://nawicnwa.org/event/wic-week-2021-sunday-brunch-march-7th/
LOCATION:Cafe On Broadway\, 123 North Broadway Street\, Siloam Springs\, AR\, 72761\, United States
ATTACH;FMTTYPE=image/png:https://nawicnwa.org/wp-content/uploads/2021/02/78d6153eb03521955f57f43cba9186f3-EMRf9C.tmp_.png
END:VEVENT
END:VCALENDAR