BEGIN:VCALENDAR
VERSION:2.0
PRODID:-//NAWIC NWA - ECPv6.15.20//NONSGML v1.0//EN
CALSCALE:GREGORIAN
METHOD:PUBLISH
X-ORIGINAL-URL:https://nawicnwa.org
X-WR-CALDESC:Events for NAWIC NWA
REFRESH-INTERVAL;VALUE=DURATION:PT1H
X-Robots-Tag:noindex
X-PUBLISHED-TTL:PT1H
BEGIN:VTIMEZONE
TZID:America/Chicago
BEGIN:DAYLIGHT
TZOFFSETFROM:-0600
TZOFFSETTO:-0500
TZNAME:CDT
DTSTART:20190310T080000
END:DAYLIGHT
BEGIN:STANDARD
TZOFFSETFROM:-0500
TZOFFSETTO:-0600
TZNAME:CST
DTSTART:20191103T070000
END:STANDARD
BEGIN:DAYLIGHT
TZOFFSETFROM:-0600
TZOFFSETTO:-0500
TZNAME:CDT
DTSTART:20200308T080000
END:DAYLIGHT
BEGIN:STANDARD
TZOFFSETFROM:-0500
TZOFFSETTO:-0600
TZNAME:CST
DTSTART:20201101T070000
END:STANDARD
BEGIN:DAYLIGHT
TZOFFSETFROM:-0600
TZOFFSETTO:-0500
TZNAME:CDT
DTSTART:20210314T080000
END:DAYLIGHT
BEGIN:STANDARD
TZOFFSETFROM:-0500
TZOFFSETTO:-0600
TZNAME:CST
DTSTART:20211107T070000
END:STANDARD
END:VTIMEZONE
BEGIN:VEVENT
DTSTART;TZID=America/Chicago:20201111T120000
DTEND;TZID=America/Chicago:20201111T130000
DTSTAMP:20260422T093127
CREATED:20201023T170553Z
LAST-MODIFIED:20201111T174408Z
UID:2209-1605096000-1605099600@nawicnwa.org
SUMMARY:NAWIC November Meeting - Wed. Nov. 11th
DESCRIPTION:Are you ready to close the gap between dreaming and doing?\nAre you doing so much you have lost hope in your dream?\n\n\n\nAre you ready to take back your time and attention? \n \nIn today’s fast paced\, immediate access\, attention economy\, it’s easy to get caught up in everyone else’s agenda and needs. \n \nHuman knowledge once doubled every thousand years.  Today\, it’s every twelve hours.  No wonder we feel frustrated\, anxious\, and overwhelmed.  We’ve been hacked! \n \nA “hack” is when someone or something gains unauthorized access to a computer or a system. Humans get hacked too.   It happens millions of times a day.  Your focus is the prize—and they’ll hack you to get it.  A pandemic election year is possibly the straw that has broken your tolerance for more. \n \nHow can you take back your time\, increase your peace\, and refine your focus? \n \nWhat about your agenda and needs? YOUR dreams\, goals\, and desires? \n \nYou must become Unhackable. \n \nBased on the best selling book\, UNHACKABLE: CLOSE THE GAP BETWEEN DREAMING AND DOING by Kary Oberbrunner\,  Daphne V. Smith\, one of Kary’s Top 100 Certified Coaches will teach you how to: \n \n•	Understand the value in the right kind of struggle  \n•	Learn to release tension \n•	Achieve a state of flow \n•	Allow recovery in order to rest and rebuild \n \nEvery sustainable advance requires these four phases. With clarity and implementation taking back your time\, energy and attention is possible. \n \n> > > >  ABOUT DAPHNE V. SMITH < < < < \nDecades of experience in the corporate world\, wellness industry\, ministerial field\, and direct sales provide Daphne with the ability to identify with a vast range of ages\, experiences\, and types of people. Presently a retreat facilitator\, life coach\, speaker and author of “What’s YOUR Scarlet Letter?”. \n \nChallenging her clients and audiences to grow\, she believes in and lives a life of design instead of default. “When I stop learning\, I stop growing.”  \n \nResiding in Northwest Arkansas for over 20 years\, she has experienced growth in both her community and in herself.  The oldest of three girls from a highly fun yet dysfunctional environment\, Daphne learned to rise to the occasion early in life.  As a wife and mother\, she continues to strive to become the best person she can be.  “If I stop and compare myself to someone else\, we both lose.  I prefer instead to be the best me possible.” \n \nHer professional credentials and accomplishments include: \n     –      3 time car winner with Mary Kay Cosmetics \n     –      Certifications from:  \n	              –     The Cooper Institute for Aerobic Research \n	              –     The American Association of Christian Counselors \n	              –     John Maxwell  \n	              –     Wired That Way Personality Assessments \n     –      And is a Master Level Igniting Souls Coach  \n \nDaphne encourages women of all ages to be wave makers by clearing their crap\, embracing who and whose they are\, establishing their own priorities and values\, and equipping themselves to live the life they were uniquely and purposely created to experience.  Living this way in turn gives others permission to do the same resulting in a better world for us all.  “If you’re still breathin’\, it’s for a reason.”
URL:https://nawicnwa.org/event/nawic-november-meeting-wed-nov-11th/
LOCATION:AR
ATTACH;FMTTYPE=image/jpeg:https://nawicnwa.org/wp-content/uploads/2020/10/f28dfef0f64165ed82f6d6d9019b4c21.jpg
END:VEVENT
END:VCALENDAR