BEGIN:VCALENDAR
VERSION:2.0
PRODID:-//NAWIC NWA - ECPv6.15.20//NONSGML v1.0//EN
CALSCALE:GREGORIAN
METHOD:PUBLISH
X-ORIGINAL-URL:https://nawicnwa.org
X-WR-CALDESC:Events for NAWIC NWA
REFRESH-INTERVAL;VALUE=DURATION:PT1H
X-Robots-Tag:noindex
X-PUBLISHED-TTL:PT1H
BEGIN:VTIMEZONE
TZID:America/Chicago
BEGIN:DAYLIGHT
TZOFFSETFROM:-0600
TZOFFSETTO:-0500
TZNAME:CDT
DTSTART:20190310T080000
END:DAYLIGHT
BEGIN:STANDARD
TZOFFSETFROM:-0500
TZOFFSETTO:-0600
TZNAME:CST
DTSTART:20191103T070000
END:STANDARD
BEGIN:DAYLIGHT
TZOFFSETFROM:-0600
TZOFFSETTO:-0500
TZNAME:CDT
DTSTART:20200308T080000
END:DAYLIGHT
BEGIN:STANDARD
TZOFFSETFROM:-0500
TZOFFSETTO:-0600
TZNAME:CST
DTSTART:20201101T070000
END:STANDARD
BEGIN:DAYLIGHT
TZOFFSETFROM:-0600
TZOFFSETTO:-0500
TZNAME:CDT
DTSTART:20210314T080000
END:DAYLIGHT
BEGIN:STANDARD
TZOFFSETFROM:-0500
TZOFFSETTO:-0600
TZNAME:CST
DTSTART:20211107T070000
END:STANDARD
END:VTIMEZONE
BEGIN:VEVENT
DTSTART;TZID=America/Chicago:20200211T073000
DTEND;TZID=America/Chicago:20200211T090000
DTSTAMP:20260423T010455
CREATED:20200101T051404Z
LAST-MODIFIED:20200211T033519Z
UID:1553-1581406200-1581411600@nawicnwa.org
SUMMARY:NAWIC NWA - Breakfast & Blueprints
DESCRIPTION:Come join us for a light breakfast and an interactive blueprint workshop led by NAWIC Chapter Members Gail Shepherd & Cori Miller!\n\n\n\nPlease join us (and bring a friend or colleague) for a light breakfast and an interactive blueprint workshop led by fellow NAWIC Chapter Members Gail Shepherd\, Partner with Hight Jackson\, and Cori Miller\, Crossland Construction.  This session will be held Tuesday\, February 11th beginning at 7:30am at Hight Jackson’s office in Rogers.    \n \n: : Breakfast and Blueprints : : \nGail Shepherd\, Partner with Hight Jackson\nCori Miller\, Crossland Construction\nReading blueprints is now part of your job\, but you didn’t go to school for it and may not be a construction expert like some in your office.  When working in the construction industry\, many times your role includes tasks such as take offs for estimates\, writing RFIs\, or discussing construction projects over the phone.  This means you need to have some knowledge of how to read blueprints.   \nCome gain an understanding of how construction drawings work with Gail Shepherd\, Partner with Hight Jackson\, and Cori Miller\, Crossland Construction\, who will direct an interactive blueprint reading workshop.  They will lead a discussion and then groups will work through exercises given by Gail and Cori.  Everyone will have an industry expert for a team resource for assistance and questions.  You’ll walk away with a better understanding of how to make your way around a set of construction drawings.  \n \n____________________________________________________________________________________________ \nIf someone forwarded this email invitation to you and you’d like to receive these meeting invitation emails directly and to join the emailing list\, please email Hallie.Bussman@caddell.com.  This step is not necessary if you received the invitation directly from NWA NAWIC Chapter. \nWe hope you can make it! \nCheers\, \nNWA NAWIC Chapter \n \nShare this event on Facebook and Twitter.
URL:https://nawicnwa.org/event/nawic-nwa-breakfast-blueprints/
LOCATION:High Jackson\, 5201 W. Village Parkway\, Rogers\, AR\, 72758\, United States
END:VEVENT
END:VCALENDAR